BEGIN:VCALENDAR
VERSION:2.0
PRODID:-//McKinney Chamber - ECPv6.14.2//NONSGML v1.0//EN
CALSCALE:GREGORIAN
METHOD:PUBLISH
X-ORIGINAL-URL:https://www.mckinneychamber.com
X-WR-CALDESC:Events for McKinney Chamber
REFRESH-INTERVAL;VALUE=DURATION:PT1H
X-Robots-Tag:noindex
X-PUBLISHED-TTL:PT1H
BEGIN:VTIMEZONE
TZID:America/Chicago
BEGIN:DAYLIGHT
TZOFFSETFROM:-0600
TZOFFSETTO:-0500
TZNAME:CDT
DTSTART:20260308T080000
END:DAYLIGHT
BEGIN:STANDARD
TZOFFSETFROM:-0500
TZOFFSETTO:-0600
TZNAME:CST
DTSTART:20261101T070000
END:STANDARD
END:VTIMEZONE
BEGIN:VEVENT
DTSTART;TZID=America/Chicago:20260604T170000
DTEND;TZID=America/Chicago:20260604T190000
DTSTAMP:20260420T114001
CREATED:20260301T221338Z
LAST-MODIFIED:20260420T052840Z
UID:3509-1780592400-1780599600@www.mckinneychamber.com
SUMMARY:2nd MIC Event
DESCRIPTION:https://mckinneychdev.growthzoneapp.com/calendar/Details/2nd-mic-event-1656387?sourceTypeId=Hub
URL:https://www.mckinneychamber.com/event/2nd-mic-event/
CATEGORIES:Leadership Mckinney,Links
ATTACH;FMTTYPE=image/jpeg:https://www.mckinneychamber.com/wp-content/uploads/2025/07/Final-Event-Featured.jpg
END:VEVENT
BEGIN:VEVENT
DTSTART;TZID=America/Chicago:20260820T170000
DTEND;TZID=America/Chicago:20260820T190000
DTSTAMP:20260420T114001
CREATED:20260301T221339Z
LAST-MODIFIED:20260420T052843Z
UID:3510-1787245200-1787252400@www.mckinneychamber.com
SUMMARY:MIC 3rd Event
DESCRIPTION:https://mckinneychdev.growthzoneapp.com/calendar/Details/mic-3rd-event-1656392?sourceTypeId=Hub
URL:https://www.mckinneychamber.com/event/mic-3rd-event/
CATEGORIES:Leadership Mckinney,Links
ATTACH;FMTTYPE=image/jpeg:https://www.mckinneychamber.com/wp-content/uploads/2025/07/Final-Event-Featured.jpg
END:VEVENT
BEGIN:VEVENT
DTSTART;TZID=America/Chicago:20261015T170000
DTEND;TZID=America/Chicago:20261015T190000
DTSTAMP:20260420T114001
CREATED:20260301T221339Z
LAST-MODIFIED:20260414T051445Z
UID:3511-1792083600-1792090800@www.mckinneychamber.com
SUMMARY:4th MIC Event
DESCRIPTION:https://mckinneychdev.growthzoneapp.com/calendar/Details/4th-mic-event-1656397?sourceTypeId=Hub
URL:https://www.mckinneychamber.com/event/4th-mic-event/
CATEGORIES:Leadership Mckinney,Links
ATTACH;FMTTYPE=image/jpeg:https://www.mckinneychamber.com/wp-content/uploads/2025/07/Final-Event-Featured.jpg
END:VEVENT
BEGIN:VEVENT
DTSTART;TZID=America/Chicago:20261019T170000
DTEND;TZID=America/Chicago:20261019T190000
DTSTAMP:20260420T114001
CREATED:20260301T221338Z
LAST-MODIFIED:20260420T052845Z
UID:3508-1792429200-1792436400@www.mckinneychamber.com
SUMMARY:MIC - Inclusive Employment Fair
DESCRIPTION:MIC Inclusive Employment FairJoin the McKinney Inclusion Council (MIC)\, a program of the McKinney Chamber of Commerce\, for an evening focused on building a more inclusive workforce in our community.The MIC Inclusive Employment Fair is designed to connect local employers with neurodivergent individuals and people with disabilities who are exploring meaningful employment opportunities\, while also providing access to valuable community resources.The event will begin with a brief\, 30-minute educational session for employers\, offering practical insights on inclusive hiring practices\, workplace accommodations\, and strategies for supporting diverse talent.Following the session\, attendees will have the opportunity to engage in a structured employment and resource fair\, featuring:Employer Exhibitors sharing job opportunities and career pathwaysResource Exhibitors providing support services such as workforce development\, accommodations guidance\, transportation\, and moreThis event is designed to create a welcoming\, structured environment where job seekers can comfortably explore opportunities and where businesses can learn and connect in a meaningful way.Who Should Attend:Individuals seeking employment opportunitiesNeurodivergent individuals and people with disabilitiesEmployers interested in inclusive hiringOrganizations providing employment and support services\nCost: Free to attend and participate\n https://mckinneychdev.growthzoneapp.com/calendar/Details/mic-inclusive-employment-fair-1656384?sourceTypeId=Hub
URL:https://www.mckinneychamber.com/event/1st-mic-event/
LOCATION:1900 Gateway Blvd. McKinney TX 75070
CATEGORIES:Leadership Mckinney,Links
ATTACH;FMTTYPE=image/jpeg:https://www.mckinneychamber.com/wp-content/uploads/2025/07/Final-Event-Featured.jpg
END:VEVENT
END:VCALENDAR